BEGIN:VCALENDAR
VERSION:2.0
PRODID:-//Laredo Housing Authority - ECPv6.15.20//NONSGML v1.0//EN
CALSCALE:GREGORIAN
METHOD:PUBLISH
X-WR-CALNAME:Laredo Housing Authority
X-ORIGINAL-URL:https://larha.org
X-WR-CALDESC:Events for Laredo Housing Authority
REFRESH-INTERVAL;VALUE=DURATION:PT1H
X-Robots-Tag:noindex
X-PUBLISHED-TTL:PT1H
BEGIN:VTIMEZONE
TZID:America/Chicago
BEGIN:DAYLIGHT
TZOFFSETFROM:-0600
TZOFFSETTO:-0500
TZNAME:CDT
DTSTART:20150308T080000
END:DAYLIGHT
BEGIN:STANDARD
TZOFFSETFROM:-0500
TZOFFSETTO:-0600
TZNAME:CST
DTSTART:20151101T070000
END:STANDARD
BEGIN:DAYLIGHT
TZOFFSETFROM:-0600
TZOFFSETTO:-0500
TZNAME:CDT
DTSTART:20160313T080000
END:DAYLIGHT
BEGIN:STANDARD
TZOFFSETFROM:-0500
TZOFFSETTO:-0600
TZNAME:CST
DTSTART:20161106T070000
END:STANDARD
BEGIN:DAYLIGHT
TZOFFSETFROM:-0600
TZOFFSETTO:-0500
TZNAME:CDT
DTSTART:20170312T080000
END:DAYLIGHT
BEGIN:STANDARD
TZOFFSETFROM:-0500
TZOFFSETTO:-0600
TZNAME:CST
DTSTART:20171105T070000
END:STANDARD
BEGIN:DAYLIGHT
TZOFFSETFROM:-0600
TZOFFSETTO:-0500
TZNAME:CDT
DTSTART:20180311T080000
END:DAYLIGHT
BEGIN:STANDARD
TZOFFSETFROM:-0500
TZOFFSETTO:-0600
TZNAME:CST
DTSTART:20181104T070000
END:STANDARD
BEGIN:DAYLIGHT
TZOFFSETFROM:-0600
TZOFFSETTO:-0500
TZNAME:CDT
DTSTART:20190310T080000
END:DAYLIGHT
BEGIN:STANDARD
TZOFFSETFROM:-0500
TZOFFSETTO:-0600
TZNAME:CST
DTSTART:20191103T070000
END:STANDARD
BEGIN:DAYLIGHT
TZOFFSETFROM:-0600
TZOFFSETTO:-0500
TZNAME:CDT
DTSTART:20200308T080000
END:DAYLIGHT
BEGIN:STANDARD
TZOFFSETFROM:-0500
TZOFFSETTO:-0600
TZNAME:CST
DTSTART:20201101T070000
END:STANDARD
BEGIN:DAYLIGHT
TZOFFSETFROM:-0600
TZOFFSETTO:-0500
TZNAME:CDT
DTSTART:20210314T080000
END:DAYLIGHT
BEGIN:STANDARD
TZOFFSETFROM:-0500
TZOFFSETTO:-0600
TZNAME:CST
DTSTART:20211107T070000
END:STANDARD
END:VTIMEZONE
BEGIN:VEVENT
DTSTART;TZID=America/Chicago:20200110T133000
DTEND;TZID=America/Chicago:20200110T170000
DTSTAMP:20260420T165325
CREATED:20191127T030923Z
LAST-MODIFIED:20191127T033914Z
UID:35082-1578663000-1578675600@larha.org
SUMMARY:Notice of Public Hearing on January 10\, 2020
DESCRIPTION:
URL:https://larha.org/index.php/event/notice-of-public-hearing/
LOCATION:LHA Board Room\, 2000 San Francisco Ave.\, Laredo\, TX\, 78040\, United States
CATEGORIES:Admin
ATTACH;FMTTYPE=image/jpeg:https://larha.org/wp-content/uploads/2019/11/public_hearing_for_1-10-2020.jpg
END:VEVENT
BEGIN:VEVENT
DTSTART;VALUE=DATE:20170116
DTEND;VALUE=DATE:20170117
DTSTAMP:20260420T165325
CREATED:20161220T042446Z
LAST-MODIFIED:20170109T201357Z
UID:26905-1484524800-1484611199@larha.org
SUMMARY:LHA Closed - Observed Holiday
DESCRIPTION:LHA will be closed on Monday\, January 16th in observation for Martin Luther King Day.
URL:https://larha.org/index.php/event/lha-closed-observed-holiday/
LOCATION:LHA Offices\, 2000 San Francisco\, Laredo\, TX\, 78040\, United States
CATEGORIES:Admin
END:VEVENT
BEGIN:VEVENT
DTSTART;VALUE=DATE:20161226
DTEND;VALUE=DATE:20161227
DTSTAMP:20260420T165325
CREATED:20161220T042620Z
LAST-MODIFIED:20161228T014459Z
UID:26907-1482710400-1482796799@larha.org
SUMMARY:LHA Closed - Observed Holiday
DESCRIPTION:
URL:https://larha.org/index.php/event/lha-closed-observed-holiday-2/
LOCATION:TX
CATEGORIES:Admin
END:VEVENT
BEGIN:VEVENT
DTSTART;VALUE=DATE:20161223
DTEND;VALUE=DATE:20161224
DTSTAMP:20260420T165325
CREATED:20170109T201128Z
LAST-MODIFIED:20170109T212855Z
UID:27208-1482451200-1482537599@larha.org
SUMMARY:LHA Closed - Observed Holiday
DESCRIPTION:LHA will be closed on Friday\, December 23rd in observation for Christmas Eve.
URL:https://larha.org/index.php/event/lha-closed-observed-holiday-copy/
LOCATION:LHA Offices\, 2000 San Francisco\, Laredo\, TX\, 78040\, United States
CATEGORIES:Admin
END:VEVENT
END:VCALENDAR